BEGIN:VCALENDAR
VERSION:2.0
CALSCALE:GREGORIAN
METHOD:PUBLISH
X-WR-CALNAME:Larpkalender.ch
X-WR-TIMEZONE:Europe/Zurich
X-WR-CALDESC:
BEGIN:VEVENT
SUMMARY:Neu Ismilia 3
UID:larpkalenderchsingle897
URL;VALUE=URI:https://www.larpkalender.ch/event.php?id=897
LOCATION:Burg Wildegg, Wildeggerstrasse 41, 2393 Sittendorf, Austria (Oesterreich)
DTSTART;VALUE=DATE:20150903
DTEND;VALUE=DATE:20150907
END:VEVENT
END:VCALENDAR
