BEGIN:VCALENDAR
VERSION:2.0
CALSCALE:GREGORIAN
METHOD:PUBLISH
X-WR-CALNAME:Larpkalender.ch
X-WR-TIMEZONE:Europe/Zurich
X-WR-CALDESC:
BEGIN:VEVENT
SUMMARY:Vampire-Live Argovia
UID:larpkalenderchsingle80
URL;VALUE=URI:https://www.larpkalender.ch/event.php?id=80
LOCATION: (Schweiz)
DTSTART;VALUE=DATE:20060513
DTEND;VALUE=DATE:20060514
END:VEVENT
END:VCALENDAR
