BEGIN:VCALENDAR
VERSION:2.0
CALSCALE:GREGORIAN
METHOD:PUBLISH
X-WR-CALNAME:Larpkalender.ch
X-WR-TIMEZONE:Europe/Zurich
X-WR-CALDESC:
BEGIN:VEVENT
SUMMARY:Vampire-Live Argovia
UID:larpkalenderchsingle74
URL;VALUE=URI:https://www.larpkalender.ch/event.php?id=74
LOCATION: (Schweiz)
DTSTART;VALUE=DATE:20051112
DTEND;VALUE=DATE:20051113
END:VEVENT
END:VCALENDAR
