BEGIN:VCALENDAR
VERSION:2.0
CALSCALE:GREGORIAN
METHOD:PUBLISH
X-WR-CALNAME:Larpkalender.ch
X-WR-TIMEZONE:Europe/Zurich
X-WR-CALDESC:
BEGIN:VEVENT
SUMMARY:Drachenfest 2006
UID:larpkalenderchsingle71
URL;VALUE=URI:https://www.larpkalender.ch/event.php?id=71
LOCATION: (Deutschland)
DTSTART;VALUE=DATE:20060802
DTEND;VALUE=DATE:20060807
END:VEVENT
END:VCALENDAR
