BEGIN:VCALENDAR
VERSION:2.0
CALSCALE:GREGORIAN
METHOD:PUBLISH
X-WR-CALNAME:Larpkalender.ch
X-WR-TIMEZONE:Europe/Zurich
X-WR-CALDESC:
BEGIN:VEVENT
SUMMARY:Stammtisch Basel
UID:larpkalenderchsingle63
URL;VALUE=URI:https://www.larpkalender.ch/event.php?id=63
LOCATION:Restaurant Letziturm, Weidengasse 19, 4052 Basel (Schweiz)
DTSTART;VALUE=DATE:20050823
DTEND;VALUE=DATE:20050824
END:VEVENT
END:VCALENDAR
