BEGIN:VCALENDAR
VERSION:2.0
CALSCALE:GREGORIAN
METHOD:PUBLISH
X-WR-CALNAME:Larpkalender.ch
X-WR-TIMEZONE:Europe/Zurich
X-WR-CALDESC:
BEGIN:VEVENT
SUMMARY:Spielmesse Zuerich
UID:larpkalenderchsingle62
URL;VALUE=URI:https://www.larpkalender.ch/event.php?id=62
LOCATION:Messe Zuerich in Oerlikon (Schweiz)
DTSTART;VALUE=DATE:20051013
DTEND;VALUE=DATE:20051017
END:VEVENT
END:VCALENDAR
