BEGIN:VCALENDAR
VERSION:2.0
CALSCALE:GREGORIAN
METHOD:PUBLISH
X-WR-CALNAME:Larpkalender.ch
X-WR-TIMEZONE:Europe/Zurich
X-WR-CALDESC:
BEGIN:VEVENT
SUMMARY:Mittelerde Fest 5
UID:larpkalenderchsingle5
URL;VALUE=URI:https://www.larpkalender.ch/event.php?id=5
LOCATION:Leuk (Schweiz)
DTSTART;VALUE=DATE:20050721
DTEND;VALUE=DATE:20050725
END:VEVENT
END:VCALENDAR
