BEGIN:VCALENDAR
VERSION:2.0
CALSCALE:GREGORIAN
METHOD:PUBLISH
X-WR-CALNAME:Larpkalender.ch
X-WR-TIMEZONE:Europe/Zurich
X-WR-CALDESC:
BEGIN:VEVENT
SUMMARY:Stammtisch Basel
UID:larpkalenderchsingle49
URL;VALUE=URI:https://www.larpkalender.ch/event.php?id=49
LOCATION:Restaurant Letziturm, Weidengasse 19, 4052 Basel (Schweiz)
DTSTART;VALUE=DATE:20050614
DTEND;VALUE=DATE:20050615
END:VEVENT
END:VCALENDAR
