BEGIN:VCALENDAR
VERSION:2.0
CALSCALE:GREGORIAN
METHOD:PUBLISH
X-WR-CALNAME:Larpkalender.ch
X-WR-TIMEZONE:Europe/Zurich
X-WR-CALDESC:
BEGIN:VEVENT
SUMMARY:Burgfest Wolhusen
UID:larpkalenderchsingle47
URL;VALUE=URI:https://www.larpkalender.ch/event.php?id=47
LOCATION:Wolhusen (Schweiz)
DTSTART;VALUE=DATE:20050827
DTEND;VALUE=DATE:20050828
END:VEVENT
END:VCALENDAR
