BEGIN:VCALENDAR
VERSION:2.0
CALSCALE:GREGORIAN
METHOD:PUBLISH
X-WR-CALNAME:Larpkalender.ch
X-WR-TIMEZONE:Europe/Zurich
X-WR-CALDESC:
BEGIN:VEVENT
SUMMARY:La spada nella Rocca
UID:larpkalenderchsingle44
URL;VALUE=URI:https://www.larpkalender.ch/event.php?id=44
LOCATION:Bellinzona (Schweiz)
DTSTART;VALUE=DATE:20050513
DTEND;VALUE=DATE:20050516
END:VEVENT
END:VCALENDAR
