BEGIN:VCALENDAR
VERSION:2.0
CALSCALE:GREGORIAN
METHOD:PUBLISH
X-WR-CALNAME:Larpkalender.ch
X-WR-TIMEZONE:Europe/Zurich
X-WR-CALDESC:
BEGIN:VEVENT
SUMMARY:Andurin 1 
UID:larpkalenderchsingle414
URL;VALUE=URI:https://www.larpkalender.ch/event.php?id=414
LOCATION:Utopion, Saar-Pfalz-Park, 66450 Bexbach (Deutschland)
DTSTART;VALUE=DATE:20090619
DTEND;VALUE=DATE:20090622
END:VEVENT
END:VCALENDAR
