BEGIN:VCALENDAR
VERSION:2.0
CALSCALE:GREGORIAN
METHOD:PUBLISH
X-WR-CALNAME:Larpkalender.ch
X-WR-TIMEZONE:Europe/Zurich
X-WR-CALDESC:
BEGIN:VEVENT
SUMMARY:Greifenhorst - Wahrung der Mark
UID:larpkalenderchsingle41
URL;VALUE=URI:https://www.larpkalender.ch/event.php?id=41
LOCATION:Zeltplatz bei Karsee (Deutschland)
DTSTART;VALUE=DATE:20050825
DTEND;VALUE=DATE:20050830
END:VEVENT
END:VCALENDAR
