BEGIN:VCALENDAR
VERSION:2.0
CALSCALE:GREGORIAN
METHOD:PUBLISH
X-WR-CALNAME:Larpkalender.ch
X-WR-TIMEZONE:Europe/Zurich
X-WR-CALDESC:
BEGIN:VEVENT
SUMMARY:Vampire Requiem LARP
UID:larpkalenderchsingle372
URL;VALUE=URI:https://www.larpkalender.ch/event.php?id=372
LOCATION:Zuerich (Schweiz)
DTSTART;VALUE=DATE:20090620
DTEND;VALUE=DATE:20090621
END:VEVENT
END:VCALENDAR
