BEGIN:VCALENDAR
VERSION:2.0
CALSCALE:GREGORIAN
METHOD:PUBLISH
X-WR-CALNAME:Larpkalender.ch
X-WR-TIMEZONE:Europe/Zurich
X-WR-CALDESC:
BEGIN:VEVENT
SUMMARY:Fotoshooting 15/16.11
UID:larpkalenderchsingle358
URL;VALUE=URI:https://www.larpkalender.ch/event.php?id=358
LOCATION: (Schweiz)
DTSTART;VALUE=DATE:20081115
DTEND;VALUE=DATE:20081117
END:VEVENT
END:VCALENDAR
