BEGIN:VCALENDAR
VERSION:2.0
CALSCALE:GREGORIAN
METHOD:PUBLISH
X-WR-CALNAME:Larpkalender.ch
X-WR-TIMEZONE:Europe/Zurich
X-WR-CALDESC:
BEGIN:VEVENT
SUMMARY:Das Siebente Siegel 2
UID:larpkalenderchsingle343
URL;VALUE=URI:https://www.larpkalender.ch/event.php?id=343
LOCATION:Neuchâtel (Schweiz)
DTSTART;VALUE=DATE:20081115
DTEND;VALUE=DATE:20081116
END:VEVENT
END:VCALENDAR
