BEGIN:VCALENDAR
VERSION:2.0
CALSCALE:GREGORIAN
METHOD:PUBLISH
X-WR-CALNAME:Larpkalender.ch
X-WR-TIMEZONE:Europe/Zurich
X-WR-CALDESC:
BEGIN:VEVENT
SUMMARY:Stammtisch Zuerich
UID:larpkalenderchsingle338
URL;VALUE=URI:https://www.larpkalender.ch/event.php?id=338
LOCATION:Wirtschaft zum Vorbahnhof, Zollstrasse 2, 8005 Zuerich (Schweiz)
DTSTART;VALUE=DATE:20081118
DTEND;VALUE=DATE:20081119
END:VEVENT
END:VCALENDAR
