BEGIN:VCALENDAR
VERSION:2.0
CALSCALE:GREGORIAN
METHOD:PUBLISH
X-WR-CALNAME:Larpkalender.ch
X-WR-TIMEZONE:Europe/Zurich
X-WR-CALDESC:
BEGIN:VEVENT
SUMMARY:600 Jahre Schlacht am Stoss
UID:larpkalenderchsingle33
URL;VALUE=URI:https://www.larpkalender.ch/event.php?id=33
LOCATION:Appenzell (Schweiz)
DTSTART;VALUE=DATE:20050610
DTEND;VALUE=DATE:20050613
END:VEVENT
END:VCALENDAR
