BEGIN:VCALENDAR
VERSION:2.0
CALSCALE:GREGORIAN
METHOD:PUBLISH
X-WR-CALNAME:Larpkalender.ch
X-WR-TIMEZONE:Europe/Zurich
X-WR-CALDESC:
BEGIN:VEVENT
SUMMARY:Mittelalter Spectaculum Zuerich
UID:larpkalenderchsingle3
URL;VALUE=URI:https://www.larpkalender.ch/event.php?id=3
LOCATION:Zuerich (Schweiz)
DTSTART;VALUE=DATE:20050527
DTEND;VALUE=DATE:20050530
END:VEVENT
END:VCALENDAR
