BEGIN:VCALENDAR
VERSION:2.0
CALSCALE:GREGORIAN
METHOD:PUBLISH
X-WR-CALNAME:Larpkalender.ch
X-WR-TIMEZONE:Europe/Zurich
X-WR-CALDESC:
BEGIN:VEVENT
SUMMARY:R.A.R.P. 
UID:larpkalenderchsingle277
URL;VALUE=URI:https://www.larpkalender.ch/event.php?id=277
LOCATION: (Schweiz)
DTSTART;VALUE=DATE:20071103
DTEND;VALUE=DATE:20071104
END:VEVENT
END:VCALENDAR
