BEGIN:VCALENDAR
VERSION:2.0
CALSCALE:GREGORIAN
METHOD:PUBLISH
X-WR-CALNAME:Larpkalender.ch
X-WR-TIMEZONE:Europe/Zurich
X-WR-CALDESC:
BEGIN:VEVENT
SUMMARY:Gutsherrn Tillit von Wendeland feiert den Jahreswechsel
UID:larpkalenderchsingle276
URL;VALUE=URI:https://www.larpkalender.ch/event.php?id=276
LOCATION:Schloss Ortenberg, Burgweg 21, 77799 Ortenberg, Germany (Deutschland)
DTSTART;VALUE=DATE:20071231
DTEND;VALUE=DATE:20080103
END:VEVENT
END:VCALENDAR
