BEGIN:VCALENDAR
VERSION:2.0
CALSCALE:GREGORIAN
METHOD:PUBLISH
X-WR-CALNAME:Larpkalender.ch
X-WR-TIMEZONE:Europe/Zurich
X-WR-CALDESC:
BEGIN:VEVENT
SUMMARY:Die Ritter von Camelot
UID:larpkalenderchsingle271
URL;VALUE=URI:https://www.larpkalender.ch/event.php?id=271
LOCATION:Frick Aargau    (Schweiz)
DTSTART;VALUE=DATE:20070721
DTEND;VALUE=DATE:20070723
END:VEVENT
END:VCALENDAR
