BEGIN:VCALENDAR
VERSION:2.0
CALSCALE:GREGORIAN
METHOD:PUBLISH
X-WR-CALNAME:Larpkalender.ch
X-WR-TIMEZONE:Europe/Zurich
X-WR-CALDESC:
BEGIN:VEVENT
SUMMARY:Vampire Requiem
UID:larpkalenderchsingle258
URL;VALUE=URI:https://www.larpkalender.ch/event.php?id=258
LOCATION:Weiningen (Schweiz)
DTSTART;VALUE=DATE:20070512
DTEND;VALUE=DATE:20070513
END:VEVENT
END:VCALENDAR
