BEGIN:VCALENDAR
VERSION:2.0
CALSCALE:GREGORIAN
METHOD:PUBLISH
X-WR-CALNAME:Larpkalender.ch
X-WR-TIMEZONE:Europe/Zurich
X-WR-CALDESC:
BEGIN:VEVENT
SUMMARY:Stinkstiefel 1
UID:larpkalenderchsingle257
URL;VALUE=URI:https://www.larpkalender.ch/event.php?id=257
LOCATION:Nahe Kaltenbach und Stein am Rhein (Schweiz)
DTSTART;VALUE=DATE:20070421
DTEND;VALUE=DATE:20070423
END:VEVENT
END:VCALENDAR
