BEGIN:VCALENDAR
VERSION:2.0
CALSCALE:GREGORIAN
METHOD:PUBLISH
X-WR-CALNAME:Larpkalender.ch
X-WR-TIMEZONE:Europe/Zurich
X-WR-CALDESC:
BEGIN:VEVENT
SUMMARY:Stammtisch Zuerich
UID:larpkalenderchsingle252
URL;VALUE=URI:https://www.larpkalender.ch/event.php?id=252
LOCATION:Restaurant Muskatnuss, Fabrikstrasse 23, Zuerich (Schweiz)
DTSTART;VALUE=DATE:20071120
DTEND;VALUE=DATE:20071121
END:VEVENT
END:VCALENDAR
