BEGIN:VCALENDAR
VERSION:2.0
CALSCALE:GREGORIAN
METHOD:PUBLISH
X-WR-CALNAME:Larpkalender.ch
X-WR-TIMEZONE:Europe/Zurich
X-WR-CALDESC:
BEGIN:VEVENT
SUMMARY:Pekars Priesterin
UID:larpkalenderchsingle2335
URL;VALUE=URI:https://www.larpkalender.ch/event.php?id=2335
LOCATION:Riibi, Stipfigasse, 3858 Hofstetten bei Brienz, Schweiz, Schweiz (Schweiz)
DTSTART;VALUE=DATE:20270514
DTEND;VALUE=DATE:20270518
END:VEVENT
END:VCALENDAR
