BEGIN:VCALENDAR
VERSION:2.0
CALSCALE:GREGORIAN
METHOD:PUBLISH
X-WR-CALNAME:Larpkalender.ch
X-WR-TIMEZONE:Europe/Zurich
X-WR-CALDESC:
BEGIN:VEVENT
SUMMARY:Ein Versuch
UID:larpkalenderchsingle2333
URL;VALUE=URI:https://www.larpkalender.ch/event.php?id=2333
LOCATION:Riedikon bei Uster, Schweiz (Schweiz)
DTSTART;VALUE=DATE:20260828
DTEND;VALUE=DATE:20260831
END:VEVENT
END:VCALENDAR
