BEGIN:VCALENDAR
VERSION:2.0
CALSCALE:GREGORIAN
METHOD:PUBLISH
X-WR-CALNAME:Larpkalender.ch
X-WR-TIMEZONE:Europe/Zurich
X-WR-CALDESC:
BEGIN:VEVENT
SUMMARY:Xant 2
UID:larpkalenderchsingle232
URL;VALUE=URI:https://www.larpkalender.ch/event.php?id=232
LOCATION:Moedingen, bei Ulm (Deutschland)
DTSTART;VALUE=DATE:20070914
DTEND;VALUE=DATE:20070917
END:VEVENT
END:VCALENDAR
