BEGIN:VCALENDAR
VERSION:2.0
CALSCALE:GREGORIAN
METHOD:PUBLISH
X-WR-CALNAME:Larpkalender.ch
X-WR-TIMEZONE:Europe/Zurich
X-WR-CALDESC:
BEGIN:VEVENT
SUMMARY:5. Luzerner Mittelalter Spektakel
UID:larpkalenderchsingle230
URL;VALUE=URI:https://www.larpkalender.ch/event.php?id=230
LOCATION:Luzern (Schweiz)
DTSTART;VALUE=DATE:20070517
DTEND;VALUE=DATE:20070521
END:VEVENT
END:VCALENDAR
