BEGIN:VCALENDAR
VERSION:2.0
CALSCALE:GREGORIAN
METHOD:PUBLISH
X-WR-CALNAME:Larpkalender.ch
X-WR-TIMEZONE:Europe/Zurich
X-WR-CALDESC:
BEGIN:VEVENT
SUMMARY:Suche eine Orga und NSL
UID:larpkalenderchsingle2289
URL;VALUE=URI:https://www.larpkalender.ch/event.php?id=2289
LOCATION:Raum Kreuzlingen  (Schweiz)
DTSTART;VALUE=DATE:20260430
DTEND;VALUE=DATE:20260504
END:VEVENT
END:VCALENDAR
