BEGIN:VCALENDAR
VERSION:2.0
CALSCALE:GREGORIAN
METHOD:PUBLISH
X-WR-CALNAME:Larpkalender.ch
X-WR-TIMEZONE:Europe/Zurich
X-WR-CALDESC:
BEGIN:VEVENT
SUMMARY:Tavernen LARP
UID:larpkalenderchsingle2253
URL;VALUE=URI:https://www.larpkalender.ch/event.php?id=2253
LOCATION: Waldhuette Roemerstein, 5600 Lenzburg, Schweiz (Schweiz)
DTSTART;VALUE=DATE:20261121
DTEND;VALUE=DATE:20261122
END:VEVENT
END:VCALENDAR
