BEGIN:VCALENDAR
VERSION:2.0
CALSCALE:GREGORIAN
METHOD:PUBLISH
X-WR-CALNAME:Larpkalender.ch
X-WR-TIMEZONE:Europe/Zurich
X-WR-CALDESC:
BEGIN:VEVENT
SUMMARY:Kurs fuer Gambenconsort, historischen Tanz und Vokalensemble
UID:larpkalenderchsingle217
URL;VALUE=URI:https://www.larpkalender.ch/event.php?id=217
LOCATION:Schloss Beuggen, Rheinfelden (Deutschland)
DTSTART;VALUE=DATE:20070410
DTEND;VALUE=DATE:20070415
END:VEVENT
END:VCALENDAR
