BEGIN:VCALENDAR
VERSION:2.0
CALSCALE:GREGORIAN
METHOD:PUBLISH
X-WR-CALNAME:Larpkalender.ch
X-WR-TIMEZONE:Europe/Zurich
X-WR-CALDESC:
BEGIN:VEVENT
SUMMARY:Elffeast 3
UID:larpkalenderchsingle213
URL;VALUE=URI:https://www.larpkalender.ch/event.php?id=213
LOCATION:Siegen (Deutschland)
DTSTART;VALUE=DATE:20070504
DTEND;VALUE=DATE:20070507
END:VEVENT
END:VCALENDAR
