BEGIN:VCALENDAR
VERSION:2.0
CALSCALE:GREGORIAN
METHOD:PUBLISH
X-WR-CALNAME:Larpkalender.ch
X-WR-TIMEZONE:Europe/Zurich
X-WR-CALDESC:
BEGIN:VEVENT
SUMMARY:Die zwei Brueder oder der vergessene Bund
UID:larpkalenderchsingle211
URL;VALUE=URI:https://www.larpkalender.ch/event.php?id=211
LOCATION:Bauerbach (Naehe Weilheim), 50km suedwestlich von Muenchen (Deutschland)
DTSTART;VALUE=DATE:20070719
DTEND;VALUE=DATE:20070723
END:VEVENT
END:VCALENDAR
