BEGIN:VCALENDAR
VERSION:2.0
CALSCALE:GREGORIAN
METHOD:PUBLISH
X-WR-CALNAME:Larpkalender.ch
X-WR-TIMEZONE:Europe/Zurich
X-WR-CALDESC:
BEGIN:VEVENT
SUMMARY:Zum goldenen Einhorn 7
UID:larpkalenderchsingle210
URL;VALUE=URI:https://www.larpkalender.ch/event.php?id=210
LOCATION:Ausflugs Gaststaette am Riedelsee, Meerholzweg 2, 89275 Unterelchingen (Deutschland)
DTSTART;VALUE=DATE:20061231
DTEND;VALUE=DATE:20070102
END:VEVENT
END:VCALENDAR
