BEGIN:VCALENDAR
VERSION:2.0
CALSCALE:GREGORIAN
METHOD:PUBLISH
X-WR-CALNAME:Larpkalender.ch
X-WR-TIMEZONE:Europe/Zurich
X-WR-CALDESC:
BEGIN:VEVENT
SUMMARY:Conquest 07
UID:larpkalenderchsingle206
URL;VALUE=URI:https://www.larpkalender.ch/event.php?id=206
LOCATION:Rittergut Brokeloh, 31628 Brokeloh (Deutschland)
DTSTART;VALUE=DATE:20070801
DTEND;VALUE=DATE:20070806
END:VEVENT
END:VCALENDAR
