BEGIN:VCALENDAR
VERSION:2.0
CALSCALE:GREGORIAN
METHOD:PUBLISH
X-WR-CALNAME:Larpkalender.ch
X-WR-TIMEZONE:Europe/Zurich
X-WR-CALDESC:
BEGIN:VEVENT
SUMMARY:Drachenfest 2007
UID:larpkalenderchsingle205
URL;VALUE=URI:https://www.larpkalender.ch/event.php?id=205
LOCATION:Quast, Quast, 34474 Diemelstadt, Germany (Deutschland)
DTSTART;VALUE=DATE:20070808
DTEND;VALUE=DATE:20070813
END:VEVENT
END:VCALENDAR
