BEGIN:VCALENDAR
VERSION:2.0
CALSCALE:GREGORIAN
METHOD:PUBLISH
X-WR-CALNAME:Larpkalender.ch
X-WR-TIMEZONE:Europe/Zurich
X-WR-CALDESC:
BEGIN:VEVENT
SUMMARY:Das Grosse Manoever
UID:larpkalenderchsingle204
URL;VALUE=URI:https://www.larpkalender.ch/event.php?id=204
LOCATION:Jugendzeltplatz Am Pfaffenwaeldchen, Mainzer Strasse 29A, 56321 Rhens (Deutschland)
DTSTART;VALUE=DATE:20070621
DTEND;VALUE=DATE:20070625
END:VEVENT
END:VCALENDAR
