BEGIN:VCALENDAR
VERSION:2.0
CALSCALE:GREGORIAN
METHOD:PUBLISH
X-WR-CALNAME:Larpkalender.ch
X-WR-TIMEZONE:Europe/Zurich
X-WR-CALDESC:
BEGIN:VEVENT
SUMMARY:New Order 2005
UID:larpkalenderchsingle20
URL;VALUE=URI:https://www.larpkalender.ch/event.php?id=20
LOCATION:Burg Waldeck (Deutschland)
DTSTART;VALUE=DATE:20050818
DTEND;VALUE=DATE:20050822
END:VEVENT
END:VCALENDAR
