BEGIN:VCALENDAR
VERSION:2.0
CALSCALE:GREGORIAN
METHOD:PUBLISH
X-WR-CALNAME:Larpkalender.ch
X-WR-TIMEZONE:Europe/Zurich
X-WR-CALDESC:
BEGIN:VEVENT
SUMMARY:Stammtisch Z&uuml;rich
UID:larpkalenderchsingle199
URL;VALUE=URI:https://www.larpkalender.ch/event.php?id=199
LOCATION:Restaurant Muskatnuss, Fabrikstrasse 23, Zuerich (Schweiz)
DTSTART;VALUE=DATE:20061219
DTEND;VALUE=DATE:20061220
END:VEVENT
END:VCALENDAR
