BEGIN:VCALENDAR
VERSION:2.0
CALSCALE:GREGORIAN
METHOD:PUBLISH
X-WR-CALNAME:Larpkalender.ch
X-WR-TIMEZONE:Europe/Zurich
X-WR-CALDESC:
BEGIN:VEVENT
SUMMARY:IsliCon 20
UID:larpkalenderchsingle1932
URL;VALUE=URI:https://www.larpkalender.ch/event.php?id=1932
LOCATION:Frauenfeld (Schweiz)
DTSTART;VALUE=DATE:20240224
DTEND;VALUE=DATE:20240225
END:VEVENT
END:VCALENDAR
