BEGIN:VCALENDAR
VERSION:2.0
CALSCALE:GREGORIAN
METHOD:PUBLISH
X-WR-CALNAME:Larpkalender.ch
X-WR-TIMEZONE:Europe/Zurich
X-WR-CALDESC:
BEGIN:VEVENT
SUMMARY:Stammtisch Z&uuml;rich
UID:larpkalenderchsingle189
URL;VALUE=URI:https://www.larpkalender.ch/event.php?id=189
LOCATION:Restaurant Muskatnuss, Fabrikstrasse 23, Zuerich (Schweiz)
DTSTART;VALUE=DATE:20060829
DTEND;VALUE=DATE:20060830
END:VEVENT
END:VCALENDAR
