BEGIN:VCALENDAR
VERSION:2.0
CALSCALE:GREGORIAN
METHOD:PUBLISH
X-WR-CALNAME:Larpkalender.ch
X-WR-TIMEZONE:Europe/Zurich
X-WR-CALDESC:
BEGIN:VEVENT
SUMMARY:Last Resort X
UID:larpkalenderchsingle1873
URL;VALUE=URI:https://www.larpkalender.ch/event.php?id=1873
LOCATION:Wangenstrasse 152, 3018, Bern, Schweiz (Schweiz)
DTSTART;VALUE=DATE:20230916
DTEND;VALUE=DATE:20230917
END:VEVENT
END:VCALENDAR
