BEGIN:VCALENDAR
VERSION:2.0
CALSCALE:GREGORIAN
METHOD:PUBLISH
X-WR-CALNAME:Larpkalender.ch
X-WR-TIMEZONE:Europe/Zurich
X-WR-CALDESC:
BEGIN:VEVENT
SUMMARY:ConQuest of Mythodea
UID:larpkalenderchsingle1871
URL;VALUE=URI:https://www.larpkalender.ch/event.php?id=1871
LOCATION:Rittergut Brokeloh, Rittergut Brokeloh 1, 31628 Landesbergen, Germany (Deutschland)
DTSTART;VALUE=DATE:20230802
DTEND;VALUE=DATE:20230807
END:VEVENT
END:VCALENDAR
