BEGIN:VCALENDAR
VERSION:2.0
CALSCALE:GREGORIAN
METHOD:PUBLISH
X-WR-CALNAME:Larpkalender.ch
X-WR-TIMEZONE:Europe/Zurich
X-WR-CALDESC:
BEGIN:VEVENT
SUMMARY:Jane Austen Ball 
UID:larpkalenderchsingle1868
URL;VALUE=URI:https://www.larpkalender.ch/event.php?id=1868
LOCATION:Konstanz Rudolf Diesel Str. 30 (Deutschland)
DTSTART;VALUE=DATE:20230916
DTEND;VALUE=DATE:20230917
END:VEVENT
END:VCALENDAR
