BEGIN:VCALENDAR
VERSION:2.0
CALSCALE:GREGORIAN
METHOD:PUBLISH
X-WR-CALNAME:Larpkalender.ch
X-WR-TIMEZONE:Europe/Zurich
X-WR-CALDESC:
BEGIN:VEVENT
SUMMARY:Rittergame
UID:larpkalenderchsingle1861
URL;VALUE=URI:https://www.larpkalender.ch/event.php?id=1861
LOCATION:Grafenried (BE) (Schweiz)
DTSTART;VALUE=DATE:20230517
DTEND;VALUE=DATE:20230522
END:VEVENT
END:VCALENDAR
