BEGIN:VCALENDAR
VERSION:2.0
CALSCALE:GREGORIAN
METHOD:PUBLISH
X-WR-CALNAME:Larpkalender.ch
X-WR-TIMEZONE:Europe/Zurich
X-WR-CALDESC:
BEGIN:VEVENT
SUMMARY:Last Resort IX
UID:larpkalenderchsingle1859
URL;VALUE=URI:https://www.larpkalender.ch/event.php?id=1859
LOCATION:Wangenstrasse 152, 3018 Bern (Schweiz)
DTSTART;VALUE=DATE:20230513
DTEND;VALUE=DATE:20230514
END:VEVENT
END:VCALENDAR
