BEGIN:VCALENDAR
VERSION:2.0
CALSCALE:GREGORIAN
METHOD:PUBLISH
X-WR-CALNAME:Larpkalender.ch
X-WR-TIMEZONE:Europe/Zurich
X-WR-CALDESC:
BEGIN:VEVENT
SUMMARY: Fantasy LARP-Taverne Fux & Haas
UID:larpkalenderchsingle1771
URL;VALUE=URI:https://www.larpkalender.ch/event.php?id=1771
LOCATION:Waldhuette Roemerstein, Roemerstein, 5600 Lenzburg, Schweiz (Schweiz)
DTSTART;VALUE=DATE:20230715
DTEND;VALUE=DATE:20230716
END:VEVENT
END:VCALENDAR
