BEGIN:VCALENDAR
VERSION:2.0
CALSCALE:GREGORIAN
METHOD:PUBLISH
X-WR-CALNAME:Larpkalender.ch
X-WR-TIMEZONE:Europe/Zurich
X-WR-CALDESC:
BEGIN:VEVENT
SUMMARY:Roemerfest Augst
UID:larpkalenderchsingle165
URL;VALUE=URI:https://www.larpkalender.ch/event.php?id=165
LOCATION:Augst (Schweiz)
DTSTART;VALUE=DATE:20060826
DTEND;VALUE=DATE:20060828
END:VEVENT
END:VCALENDAR
