BEGIN:VCALENDAR
VERSION:2.0
CALSCALE:GREGORIAN
METHOD:PUBLISH
X-WR-CALNAME:Larpkalender.ch
X-WR-TIMEZONE:Europe/Zurich
X-WR-CALDESC:
BEGIN:VEVENT
SUMMARY:Spaktekel
UID:larpkalenderchsingle164
URL;VALUE=URI:https://www.larpkalender.ch/event.php?id=164
LOCATION:Pfeffingen (Schweiz)
DTSTART;VALUE=DATE:20060624
DTEND;VALUE=DATE:20060625
END:VEVENT
END:VCALENDAR
