BEGIN:VCALENDAR
VERSION:2.0
CALSCALE:GREGORIAN
METHOD:PUBLISH
X-WR-CALNAME:Larpkalender.ch
X-WR-TIMEZONE:Europe/Zurich
X-WR-CALDESC:
BEGIN:VEVENT
SUMMARY:Studio 54 Fairytale & Fantasy
UID:larpkalenderchsingle162
URL;VALUE=URI:https://www.larpkalender.ch/event.php?id=162
LOCATION:ABC mixx, Luzern (Schweiz)
DTSTART;VALUE=DATE:20060506
DTEND;VALUE=DATE:20060507
END:VEVENT
END:VCALENDAR
